BEGIN:VCALENDAR
VERSION:2.0
PRODID:BRIDLINGTON SWIMMING CLUB
CALSCALE:GREGORIAN
BEGIN:VEVENT
DTSTAMP:20260419T205958Z
UID:8012daac-480e-46d3-9d0d-830444bdf3f7
DTSTART:20160522T120000Z
DTEND:20160522T170000Z
DESCRIPTION:yo followwwwwww\n
LOCATION:ERCC LEiSURE
SUMMARY:BAM OPEN MEET
URL;VALUE=URI:https://bridswimclub.tidyhq.com/public/events/3760-bam-open-m
 eet
END:VEVENT
END:VCALENDAR
